BEGIN:VCALENDAR
VERSION:2.0
PRODID:-//eventon.com NONSGML v1.0//EN
BEGIN:VEVENT
UID:69eca81f49677
DTSTAMP:20260425T134015
DTSTART:20250511T130000Z
DTEND:20250511T170000Z
TZID:Europe/Belgrade
LOCATION:Kasárne/Kulturpark\,  budova Alfa Kukučínova 2\,  040 01 Košice
SUMMARY:Tančiareň pre seniorov
DESCRIPTION: Tanec patrí medzi seniormi k&nbsp;obľúbeným aktivitám. Tančiarne v&nbsp;Kasárňach/Kulturparku sú toho dôkazom. O&nbsp;nedostatku záujemcov o&nbsp;príjemné strávenie voľného času v&nbsp;nedeľu popoludní nemôže byť reč. Keď ste práve dostali chuť zatancovať si\,  stretnúť ľudí v&nbsp;približne rovnakom veku a&nbsp;zabaviť sa\,  tak príďte do tanečnej sály v&nbsp;budove Alfa 11. mája 2025 o&nbsp;15:00 hod. Určite tam[..]\nhttps://k13.sk/podujatie/tanciaren-pre-seniorov-26/
URL:https://k13.sk/podujatie/tanciaren-pre-seniorov-26/
END:VEVENT
END:VCALENDAR