BEGIN:VCALENDAR
VERSION:2.0
PRODID:-//eventon.com NONSGML v1.0//EN
BEGIN:VEVENT
UID:69ecfb8a99a8e
DTSTAMP:20260425T193610
DTSTART:20250221T140000Z
DTEND:20250221T150000Z
TZID:Europe/Belgrade
LOCATION:SteelPark Kukučínova 2\,  040 01 Košice
SUMMARY:Padám\,  padáš\,  padáme - workshop v SteelParku
DESCRIPTION: Na zvedavé deti čaká cez prázdniny ďalšia zo zážitkových aktivít v&nbsp;SteelParku. Na workshope s&nbsp;názvom Padám\,  padáš\,  padáme sa 21. februára 2025 o&nbsp;15:00 hod. dozvedia o&nbsp;vynálezcovi padáka Štefanovi Baničovi a&nbsp;ešte všeličo iné. Z&nbsp;bežne dostupných materiálov si vyrobia vlastné padáky\,  papierovú helikoptéru a&nbsp;postavia si papierové lietadielko\,  aj mega dobré papierové lietadlo\,  ktoré[..]\nhttps://k13.sk/podujatie/padam-padas-padame-workshop-v-steelparku-5/
URL:https://k13.sk/podujatie/padam-padas-padame-workshop-v-steelparku-5/
END:VEVENT
END:VCALENDAR