BEGIN:VCALENDAR
VERSION:2.0
PRODID:-//eventon.com NONSGML v1.0//EN
BEGIN:VEVENT
UID:69ed0d2fa1f7b
DTSTAMP:20260425T205127
DTSTART:20250220T140000Z
DTEND:20250220T150000Z
TZID:Europe/Belgrade
LOCATION:SteelPark Kukučínova 2\,  040 01 Košice
SUMMARY:Do zmydlenia! - workshop v SteelParku
DESCRIPTION: SteelPark – park vedy pripravil pre deti počas jarných prázdnin workshop Do zmydlenia\,  na ktorý môžu prísť 20. februára 2025 o&nbsp;15:00 hod. Keď sa vám doma minie mydlo a&nbsp;do obchodu sa vám utekať nechce\,  môžete si ho bez veľkej námahy vyrobiť. Vieme však\,  ako na to? Sú za tým jednoduché[..]\nhttps://k13.sk/podujatie/do-zmydlenia-workshop-v-steelparku-4/
URL:https://k13.sk/podujatie/do-zmydlenia-workshop-v-steelparku-4/
END:VEVENT
END:VCALENDAR