BEGIN:VCALENDAR
VERSION:2.0
PRODID:-//eventon.com NONSGML v1.0//EN
BEGIN:VEVENT
UID:69ecfc16b7e6a
DTSTAMP:20260425T193830
DTSTART:20250218T140000Z
DTEND:20250218T150000Z
TZID:Europe/Belgrade
LOCATION:SteelPark Kukučínova 2\,  040 01 Košice
SUMMARY:Levitujúci vláčik - workshop v SteelParku
DESCRIPTION: Keď v&nbsp;druhý prázdninový deň 18. februára 2025 navštívite SteelPark – park vedy\,  čaká vás o&nbsp;15:00 hod. zaujímavý workshop Levitujúci vláčik. Ten sa dokáže pohybovať a&nbsp;vznášať sa po oválnej koľajnicovej dráhe bez toho\,  aby sa jej dotýkal. Ako je to možné? Všetko sa dozviete\,  keď si to prídete pozrieť a&nbsp;presvedčiť sa[..]\nhttps://k13.sk/podujatie/levitujuci-vlacik-workshop-v-steelparku-4/
URL:https://k13.sk/podujatie/levitujuci-vlacik-workshop-v-steelparku-4/
END:VEVENT
END:VCALENDAR