BEGIN:VCALENDAR
VERSION:2.0
PRODID:-//eventon.com NONSGML v1.0//EN
BEGIN:VEVENT
UID:69ecfa0d2c341
DTSTAMP:20260425T192949
DTSTART:20250217T140000Z
DTEND:20250217T150000Z
TZID:Europe/Belgrade
LOCATION:SteelPark Kukučínova 2\,  040 01 Košice
SUMMARY:To je bomba! - workshop v SteelParku
DESCRIPTION: Prázdniny si môžete užiť aj v&nbsp;SteelParku – parku vedy. Ak sa chcete naučiť\,  ako sa vyrába bomba\,  tak potom pre vás je určený workshop To je bomba!\,  ktorý je pre prázdninujúce deti pripravený na 17. februára 2025 o&nbsp;15:00 hod. Rodičia\,  nemajte obavy o&nbsp;svoje ratolesti. Táto bomba nebude ničivá\,  ale krásne[..]\nhttps://k13.sk/podujatie/to-je-bomba-workshop-v-steelparku/
URL:https://k13.sk/podujatie/to-je-bomba-workshop-v-steelparku/
END:VEVENT
END:VCALENDAR