BEGIN:VCALENDAR
VERSION:2.0
PRODID:-//eventon.com NONSGML v1.0//EN
BEGIN:VEVENT
UID:69ecfb8aa82dc
DTSTAMP:20260425T193610
DTSTART:20250219T140000Z
DTEND:20250219T160000Z
TZID:Europe/Belgrade
LOCATION:SteelPark Kukučínova 2\,  040 01 Košice
SUMMARY:Lego krúžok v SteelParku
DESCRIPTION: Vyplňte svojim deťom plnohodnotne ich voľný čas. V&nbsp;SteelParku – parku vedy je pre nich počas jarných prázdnin 19. februára 2025 i 15:00 hod. pripravený Lego krúžok\,  na ktorom môžu meniť malé farebné kocky na robotov.&nbsp;Postavia si nielen vlastného\,  ale ho aj naprogramujú a otestujú. Práca so súpravou LEGO SPIKE Prime[..]\nhttps://k13.sk/podujatie/lego-kruzok-v-steelparku-25/
URL:https://k13.sk/podujatie/lego-kruzok-v-steelparku-25/
END:VEVENT
END:VCALENDAR